Workbook

Sheet ÖSSZESÍTÉS
B2: Összesítő táblázat
B3: Általános tételek | C3: =Általános!F21 -> 0
B4: Pálya | C4: =Pálya!F160 -> 0
B5: Műtárgy 565+92 | C5: ='Műtárgy565+92'!F40 -> 0
B6: Felsővez | C6: =Felsővez!F65 -> 0
B7: Távközlés | C7: ='Távközlés '!F47 -> 0
B8: Bizt. Ber | C8: ='Bizt ber'!F32 -> 0
B9: Összesen | C9: =SUM(C3:C8) -> 0

Sheet Általános
A3: TÉTEL-SZÁM | B3: MEGNEVEZÉS | C3: MENNYISÉG | D3: MÉRTÉK-EGYSÉG | E3: EGYSÉGÁR | F3: ÖSSZEG
A4: 000 000 | B4: ÁLTALÁNOS TÉTELEK
A5: 10000 | B5: Tervezési feladatok
A6: 10040 | B6: Tervezői művezetés | C6: 1 | D6: Ft | F6: =C6*E6 -> 0
A7: 10045 | B7: Előzetes állapotfelvétel épületekről, közművekről, védett természeti területről, szállítóutakról | C7: 1 | D7: Ft | F7: =C7*E7 -> 0
A8: 10055 | B8: Vágányzári technológiai terv készítése | C8: 1 | D8: Ft | F8: =C8*E8 -> 0
A9: 20030 | B9: Szakfelügyeletek (Külső közművek) | C9: 1 | D9: Ft | F9: =C9*E9 -> 0
A10: 20040 | B10: Környezetvédelmi és természetvédelmi szakfelügyelet | C10: 1 | D10: Ft | F10: =C10*E10 -> 0
A11: 20060 | B11: Geodéziai pontok létesítése | C11: 1 | D11: Ft | F11: =C11*E11 -> 0
A12: 20065 | B12: Geodéziai pontok védelme | C12: 1 | D12: Ft | F12: =C12*E12 -> 0
A13: 30000 | B13: Ideiglenes létesítmények
A14: 30035 | B14: Ideiglenes melléképítmények létesítése és elbontása | C14: 1 | D14: Ft | F14: =C14*E14 -> 0
A15: 30050M | B15: Vonatpótló autóbuszok - csak a táblázás költségei | C15: 1 | D15: Ft | F15: =C15*E15 -> 0
A16: 30060 | B16: Létesítmény megvalósítását jelző táblák | C16: 1 | D16: Ft | F16: =C16*E16 -> 0
A17: 40000 | B17: Egyéb projekt költségek
A18: 40020 | B18: Szolgáltatás mérnök részére | C18: 1 | D18: Ft | F18: =C18*E18 -> 0
A19: 50000 | B19: Projekttől függő egyéb feladatok | D19: Ft
A20: 50210M | B20: Általános feladatok (területhasználat; környezetvédelem; | C20: 1 | D20: Ft | F20: =C20*E20 -> 0
B21: ÁLTALÁNOS TÉTELEK ÖSSZESEN: | F21: =SUM(F6:F20) -> 0

Sheet Pálya
A1: TÉTELSZÁM | B1: MEGNEVEZÉS | C1: MENNYISÉG | D1: MÉRTÉK-EGYSÉG | E1: EGYSÉGÁR | F1: ÖSSZEG
B2: Herend -Veszprém vonalszakasz
A3: 000 000 | B3: ÁLTALÁNOS TÉTELEK
A4: 10000 | B4: Tervezési feladatok
A5: 10010 | B5: Tervezés (kitűzési terv készítése 558 - 575 hm sz. között, 5 pld.) | C5: 1 | D5: Ft | F5: =C5*E5 -> 0
A6: 10015 | B6: Megvalósulási tervek elkészítése | C6: 1 | D6: Ft | F6: =C6*E6 -> 0
A7: 30025 | B7: Ideiglenes szállító és terelő burkolt és földutak építése, megerősítése, szükség szerinti helyreállítása, ill. igény esetén elbontása (nem MÁV területen) | C7: 1 | D7: Ft | F7: =C7*E7 -> 0
A8: 200000 | B8: ELŐKÉSZÍTŐ- ÉS FÖLDMUNKÁK
A9: 213000 | B9: Irtás
A10: 213025 | B10: Bozót és cserje irtás | C10: 8400 | D10: m2 | F10: =C10*E10 -> 0
A11: 214000 | B11: Terület előkészítő földmunkák
A12: 214050 | B12: Alkalmatlan fedőréteg leszedése, szállítása | C12: 406 | D12: m3 | F12: =C12*E12 -> 0
A13: 220000 | B13: Nem építmény specifikus általános földmunkák
A14: 221000 | B14: Talajkezelés, töltésépítés előkészítés
A15: 221075 | B15: Töltés alapozás georáccsal, georács beépítése | C15: 2585 | D15: m2 | F15: =C15*E15 -> 0
A16: 221095 | B16: Töltés szélesítés töltésoldal lépcsőzésével | C16: 86 | D16: m3 | F16: =C16*E16 -> 0
A17: 221130 | B17: Meszes kötőanyagú talajkezelés | C17: 2028.95 | D17: m3 | F17: =C17*E17 -> 0
A18: 221065 | B18: Geotextília terítése | C18: 2000 | D18: m2 | F18: =C18*E18 -> 0
A19: 221105 | B19: Süllyedésmérő elhelyezése (3*2 db betongyűrű) beépítése 3 szelvényben | C19: 42 | D19: m | F19: =C19*E19 -> 0
A20: 221110 | B20: Süllyedésmérés mérőcsövön keresztül | C20: 42 | D20: m | F20: =C20*E20 -> 0
A21: 222000 | B21: Földmű építése
A22: 222100 | B22: Földmű építése bevágásból
A23: 222110 | B23: Bevágásból kikerülő felesleges föld kitermelése és elszállítása lerakóhelyre | C23: 4517 | D23: m3 | F23: =C23*E23 -> 0
A24: 222200 | B24: Földmű építése anyagnyerőhelyről
A25: 222210 | B25: Töltés (nagy tömegű földmű) építése | C25: 1874.25 | D25: m3 | F25: =C25*E25 -> 0
A26: 222230 | B26: Földmű felső 50 cm vtg rétegébe építendő fagyvédő réteg | C26: 661.3 | D26: m3 | F26: =C26*E26 -> 0
A27: 222240 | B27: Földmű felső 50 cm vtg rétegébe építendő javítóréteg | C27: 716.55 | D27: m3 | F27: =C27*E27 -> 0
A28: 223000 | B28: Alakító földmunkák
A29: 223010 | B29: Rézsűképzés | C29: 2541 | D29: m2 | F29: =C29*E29 -> 0
A30: 223030 | B30: Humuszterítés rézsűs felületen | C30: 110 | D30: m3 | F30: =C30*E30 -> 0
A31: 223060 | B31: Biológiai rézsűvédelem | C31: 1100 | D31: m2 | F31: =C31*E31 -> 0
A32: 400000 | B32: VÍZÉPÍTÉS
A33: 442000 | B33: Árok, folyóka
A34: 442055 | B34: Folyóka építése előregyártott elemekből (Barcs típusú elemekből) | C34: 494 | D34: m | F34: =C34*E34 -> 0
A35: 900000 | B35: VASÚTÉPÍTÉS
A36: 910000 | B36: Pályaépítéssel kapcsolatos bontási munkák és vasúti földmunkák
A37: 911000 | B37: Bontási munkák
A38: 911030 | B38: Vágány bontása mezőben | C38: 504 | D38: vfm | F38: =C38*E38 -> 0
A39: 911100 | B39: Felső ágyazat bontás | C39: 315 | D39: m3 | F39: =C39*E39 -> 0
A40: 911110 | B40: Alsó ágyazat bontás | C40: 629 | D40: m3 | F40: =C40*E40 -> 0
A41: 911160 | B41: Biztonsági határjel, szelvénykő bontása | C41: 7 | D41: db | F41: =C41*E41 -> 0
A42: 912000 | B42: Vasúti földmunka
A43: 912060 | B43: Tükör készítése alépítményi koronán | C43: 4887 | D43: m2 | F43: =C43*E43 -> 0
A44: 912070 | B44: Vasúti padkarendezés padkanyeséssel | C44: 112 | D44: m3 | F44: =C44*E44 -> 0
A45: 920000 | B45: Vasúti felépítmény
A46: 921000 | B46: Vágányépítés zúzottkő ágyazattal
A47: 921010 | B47: Alsó ágyazat készítése | C47: 629 | D47: ttm3 | F47: =C47*E47 -> 0
A48: 921020 | B48: Felső ágyazat készítése | C48: 315 | D48: ttm3 | F48: =C48*E48 -> 0
A49: 921090 | B49: Kisgépes vágányépítés 54-es rendszerű | C49: 504 | D49: vfm | F49: =C49*E49 -> 0
A50: 921120 | B50: Szigetelt és átmeneti sín beépítése | C50: 24 | D50: sm | F50: =C50*E50 -> 0
A51: 921170 | B51: Nagygépes vágányszabályozás (építési 562/567 szlv 3*500vfm) | C51: 1500 | D51: vfm | F51: =C51*E51 -> 0
A52: 921170 | B52: Nagygépes vágányszabályozás (fenntartási 558/575 szlv 2*1700vfm) | C52: 3400 | D52: vfm | F52: =C52*E52 -> 0
A53: 921170 | B53: Nagygépes vágányszabályozás (jótállási 558/575 szlv 1*1700vfm) | C53: 1700 | D53: vfm | F53: =C53*E53 -> 0
A54: 921190 | B54: Sínek hegesztése mozgó ellenállás hegesztő géppel | C54: 12 | D54: db | F54: =C54*E54 -> 0
A55: 921200 | B55: Sínek hegesztése AT technológiával | C55: 4 | D55: db | F55: =C55*E55 -> 0
A56: 921210 | B56: Semleges hőmérséklet, munkahőmérséklet kialakítása | C56: 1200 | D56: sfm | F56: =C56*E56 -> 0
B58: VASÚTI PÁLYA I. ÖSSZESEN: | F58: =SUM(F3:F56) -> 0
B60: Herend -Veszprém vonalszakasz kiegészítése
A61: 200000 | B61: ELŐKÉSZÍTŐ- ÉS FÖLDMUNKÁK
A62: 222000 | B62: Földmű építése
A63: 221000 | B63: Talajkezelés, töltésépítés előkészítés
A64: 222200 | B64: Földmű építése anyagnyerőhelyről
A65: K1 | B65: CKt réteg beépítése háttöltésen | C65: 75 | D65: m3 | F65: =C65*E65 -> 0
A66: 900000 | B66: VASÚTÉPÍTÉS
A67: 920000 | B67: Vasúti felépítmény
A68: 923000 | B68: Pályatartozékok építése munkák
A69: K4 | B69: Acél védőkorlát építése | C69: 5 | D69: m | F69: =C69*E69 -> 0
A70: 990000 | B70: Kábelalépítmények
A71: 991000 | B71: Kábelalépítmény bontása
A72: 991010 | B72: Meglévő kábelalépítmény bontása | C72: 20 | D72: m | F72: =C72*E72 -> 0
A73: 992000 | B73: Kábelalépítmény építési munkái
A74: 992010 | B74: Kábelalépítmény építési földmunkái | C74: 80 | D74: m3 | F74: =C74*E74 -> 0
A75: 992020 | B75: Védőcső átsajtolása | C75: 24 | D75: m | F75: =C75*E75 -> 0
A76: 994000 | B76: Kábelszekrény elhelyezése
A77: 994011 | B77: KSZ-KNR-2,00 kábelszekrény építése | C77: 4 | D77: db | F77: =C77*E77 -> 0
A78: 996000 | B78: Védőcsövek beépítése
A79: K2 | B79: Védőcső beépítése | C79: 12 | D79: m | F79: =C79*E79 -> 0
A80: K3 | B80: V273 védőcső beépítése | C80: 12 | D80: m | F80: =C80*E80 -> 0
B83: VASÚTI PÁLYA II. ÖSSZESEN: | F83: =SUM(F61:F80) -> 0
B85: Szentgál-Városlőd vonalszakasz
A86: 000 000 | B86: ÁLTALÁNOS TÉTELEK
A87: 10000 | B87: Tervezési feladatok
A88: 10015 | B88: Megvalósulási tervek elkészítése | C88: 1 | D88: Ft | F88: =C88*E88 -> 0
A89: 30025 | B89: Ideiglenes szállító és terelő burkolt és földutak építése, megerősítése, szükség szerinti helyreállítása, ill. igény esetén elbontása (nem MÁV területen) | C89: 1 | D89: Ft | F89: =C89*E89 -> 0
A90: 200000 | B90: ELŐKÉSZÍTŐ- ÉS FÖLDMUNKÁK
A91: 210000 | B91: Bontási, terület-előkészítési munkák
A92: 213000 | B92: Irtás
A93: 213020 | B93: Erdőirtás, tuskó kiszedéssel, a fák közötti növényzet irtásával | C93: 4000 | D93: m2 | F93: =C93*E93 -> 0
A94: 213025 | B94: Bozót és cserje irtás | C94: 5600 | D94: m2 | F94: =C94*E94 -> 0
A95: 214000 | B95: Terület előkészítő földmunkák
A96: 214030 | B96: Humusz leszedés, visszaépítéshez | C96: =[1]Munka1!$K$48 -> 438.85 | D96: m3 | F96: =C96*E96 -> 0
A97: 221000 | B97: Talajkezelés, töltésépítés előkészítés
A98: 221095 | B98: Töltés szélesítés töltésoldal lépcsőzésével | C98: =[1]Munka1!$D$48 -> 4086.85 | D98: m3 | F98: =C98*E98 -> 0
A99: K5 | B99: Meszes és cementes kötőanyagú talajkezelés | C99: =[1]Munka1!$F$48 -> 1727.25 | D99: m3 | F99: =C99*E99 -> 0
A100: 222100 | B100: Földmű építése bevágásból
A101: 222110 | B101: Bevágásból kikerülő felesleges föld kitermelése és elszállítása lerakóhelyre | C101: 8202 | D101: m3 | F101: =C101*E101 -> 0
A102: 222210 | B102: Töltés (stab. feletti rész) építése | C102: =[1]Munka1!$E$48 -> 2293.55 | D102: m3 | F102: =C102*E102 -> 0
A103: 223000 | B103: Alakító földmunkák
A104: 223030 | B104: Humuszterítés rézsűs felületen | C104: =[1]Munka1!$L$48 -> 375.37 | D104: m3 | F104: =C104*E104 -> 0
A105: 223080 | B105: Egyéb rézsűvédelem | C105: =[1]Munka1!$M$48 -> 2637.1 | D105: m2 | F105: =C105*E105 -> 0
...

Sheet Műtárgy565+92
A3: TÉTELSZÁM | B3: MEGNEVEZÉS | C3: MENNYISÉG | D3: MÉRTÉK-EGYSÉG | E3: EGYSÉGÁR | F3: ÖSSZEG
B4: Herend -Veszprém vonalszakasz 565+92,99 hm. szelv. 1,0 m ny. tartóbetétes teknőhíd bontása, 1,5/1,5 m névleges nyílású kerethíd építése
A5: 200000 | B5: Előkészítő és földmunkák
A6: 221065 | B6: Geotextília terítése (nem szőtt tűnemezelt geotextília, GRK3) | C6: 92 | D6: m2 | F6: =C6*E6 -> 0
A7: 400000 | B7: VÍZÉPÍTÉS
A8: 410000 | B8: Vízépítési létesítmények bontása
A9: 410015 | B9: Mederburkolat bontása | C9: 6 | D9: m2 | F9: =C9*E9 -> 0
A10: 462000 | B10: Vízelvezető burkolt meder
A11: 462010 | B11: Mederburkolás mederlappal (40x40x10) | C11: 93 | D11: m2 | F11: =C11*E11 -> 0
A12: 463050 | B12: Kőszórás | C12: 3 | D12: m3 | F12: =C12*E12 -> 0
A14: 500000 | B14: HÍD- ÉS MŰTÁRGYÉPÍTÉS
A15: 510000 | B15: Híd- és műtárgyépítéssel kapcsolatos bontási munkák és földmunkák
A16: 511000 | B16: Híd- és műtárgyépítéssel kapcsolatos bontási munkák
A17: 511050 | B17: Alaptest bontása | C17: 14 | D17: m3 | F17: =C17*E17 -> 0
A18: 511070 | B18: Hídfő felmenőfal, szárnyfal, pillér bontása | C18: 26 | D18: m3 | F18: =C18*E18 -> 0
A19: 511150 | B19: Tartóbetétes vb. felszerkezet bontása (teknőhíd) | C19: 5 | D19: m3 | F19: =C19*E19 -> 0
A20: K1 | B20: Ágyazattámasztó gerenda bontás | C20: 12 | D20: db | F20: =C20*E20 -> 0
A21: 511220 | B21: Szigetelés bontása hídon | C21: 14 | D21: m2 | F21: =C21*E21 -> 0
A22: 511240 | B22: Szigetelést védő beton bontása | C22: 0.5 | D22: m3 | F22: =C22*E22 -> 0
A23: 511370 | B23: Idomacél hídkorlát bontása | C23: 85 | D23: kg | F23: =C23*E23 -> 0
A24: 511400 | B24: Egyéb betonszerkezet bontása (toldásokból adódó beton) | C24: 9 | D24: m3 | F24: =C24*E24 -> 0
A25: 512000 | B25: Hidakhoz kapcsolódó földmunka, terület előkészítés
A26: 512020 | B26: Föld kitermelés száraz munkagödörből | C26: 160 | D26: m3 | F26: =C26*E26 -> 0
A27: 512050 | B27: Háttöltés, előtöltés, töltéslezáró kúp építése | C27: 190 | D27: m3 | F27: =C27*E27 -> 0
B28: homokos kavics műtárgy alá | C28: 36 | D28: m3 | F28: =C28*E28 -> 0
A29: 550000 | B29: Felszerkezet
A30: 553000 | B30: Monolit és előregyártott vasbeton szerkezetek
A31: K2 | B31: Előregyártott keret | C31: 22 | D31: m3 | F31: =C31*E31 -> 0
A32: 553180 | B32: Monolit vasbeton szegély/járda/pótpadka | C32: 1 | D32: m3 | F32: =C32*E32 -> 0
A33: 553240 | B33: Betonfog kerethídhoz, csőhídhoz | C33: 3.5 | D33: m3 | F33: =C33*E33 -> 0
A34: 560000 | B34: Befejező munkák
A35: 564000 | B35: Visszatartó rendszerek és egyéb tartozékok
A36: 564210 | B36: Idomacél hídkorlát | C36: 75 | D36: kg | F36: =C36*E36 -> 0
A37: 564320 | B37: Előregyártott vizsgálólépcső (szerelőbetonnal)-2 helyen | C37: 7 | D37: m | F37: =C37*E37 -> 0
A38: 564410 | B38: Érintésvédelmi és földelési szerelvények | C38: 20 | D38: kg | F38: =C38*E38 -> 0
B40: MŰTÁRGY 565+92 ÖSSZESEN: | F40: =SUM(F6:F38) -> 0

Sheet Felsővez
B2: Veszprém-Herend vonalszakasz 562-567 szelvény között villamos felsővezeték
A3: TÉTELSZÁM | B3: MEGNEVEZÉS | C3: MENNYISÉG | D3: MÉRTÉK-EGYSÉG | E3: EGYSÉGÁR | F3: ÖSSZEG
A4: 000 000 | B4: ÁLTALÁNOS TÉTELEK
A5: 10000 | B5: Tervezési feladatok
A6: 10015 | B6: Megvalósulási tervek elkészítése | C6: 1 | D6: Ft | F6: =C6*E6 -> 0
A7: 900000 | B7: VASÚTÉPÍTÉS
A8: 940000 | B8: Felsővezeték és áramellátás
A9: 941000 | B9: Felsővezeték bontása
A10: 941010 | B10: Betonalap visszabontás földmunkával | C10: 39 | D10: m3 | F10: =C10*E10 -> 0
A11: 941020 | B11: Vasbeton oszlop bontása | C11: 9 | D11: db | F11: =C11*E11 -> 0
A12: 941060 | B12: Hosszlánc, vonali táp és megkerülő vezeték bontása | C12: 1.32 | D12: km | F12: =C12*E12 -> 0
A13: 941080 | B13: Tartószerkezet bontása | C13: 9 | D13: csop | F13: =C13*E13 -> 0
A14: 941084 | B14: Vonali táp- és állomási megkerülővezetékek bontása | C14: 1.13 | D14: km | F14: =C14*E14 -> 0
A15: 941120 | B15: Földelési és érintésvédelmi rendszer, áram-visszavezetők bontása | C15: 0.07 | D15: km | F15: =C15*E15 -> 0
A16: 942000 | B16: Felsővezeték építése
A17: 942010 | B17: Pörgetett vasbeton oszlop állítása | C17: 9 | D17: db | F17: =C17*E17 -> 0
A18: 942070 | B18: Tartószerkezet felszerelése | C18: 9 | D18: készlet | F18: =C18*E18 -> 0
A19: 942100 | B19: K100-as hosszlánc építése | C19: 1.32 | D19: km | F19: =C19*E19 -> 0
A20: 942150 | B20: Felsővezeték szabályozása | C20: 0.7 | D20: km | F20: =C20*E20 -> 0
A21: 942200 | B21: Vonali táp, állomási megkerülő vezetékek, kapcsolóvezetékek építése | C21: 1.13 | D21: km | F21: =C21*E21 -> 0
A22: 942230 | B22: Önhordó fényvezetőszálas kábel áthelyezése | C22: 1.4 | D22: km | F22: =C22*E22 -> 0
A23: 942240 | B23: Földelő vezeték létesítése | C23: 0.07 | D23: km | F23: =C23*E23 -> 0
A24: 942260 | B24: Felsővezetéki rendszer földelési és érintésvédelmi bekötéseinek elkészítése | C24: 26 | D24: db | F24: =C24*E24 -> 0
A25: 943000 | B25: Felsővezeték egyéb kiegészítő munkák
A26: 943020 | B26: Felsővezetéki táblák és jelzések | C26: 9 | D26: db | F26: =C26*E26 -> 0
A27: K | B27: Betongyámos faoszlop provizor állítása (építés/bontás) | C27: 10 | D27: db | F27: =C27*E27 -> 0
B29: Felsővezeték I. Összesen | F29: =SUM(F4:F27) -> 0
A30: Szg-VL
B31: Szentgál-Városlőd-Kislőd vonalszakasz 686-692 szelvény között villamos felsővezeték
A32: 000 000 | B32: ÁLTALÁNOS TÉTELEK
A33: 10000 | B33: Tervezési feladatok
A34: 10015 | B34: Megvalósulási tervek elkészítése | C34: 1 | D34: Ft | F34: =C34*E34 -> 0
A35: 200000 | B35: ELŐKÉSZÍTŐ- ÉS FÖLDMUNKÁK
A36: 900000 | B36: VASÚTÉPÍTÉS
A37: 940000 | B37: Felsővezeték és áramellátás
A38: 941000 | B38: Felsővezeték bontása
A39: 941010 | B39: Betonalap visszabontás földmunkával | C39: 18 | D39: m3 | F39: =C39*E39 -> 0
A40: 941020 | B40: Vasbeton oszlop bontása | C40: 3 | D40: db | F40: =C40*E40 -> 0
A41: 941030 | B41: Acél oszlop bontása | C41: 3 | D41: db | F41: =C41*E41 -> 0
A42: 941060 | B42: Hosszlánc, vonali táp és megkerülő vezeték bontása | C42: 0.75 | D42: km | F42: =C42*E42 -> 0
A43: 941070 | B43: Feszítőmű leszerelése | C43: 2 | D43: csop | F43: =C43*E43 -> 0
A44: 941080 | B44: Tartószerkezet bontása | C44: 7 | D44: csop | F44: =C44*E44 -> 0
A45: 941084 | B45: Vonali táp- és állomási megkerülővezetékek bontása | C45: 0.66 | D45: km | F45: =C45*E45 -> 0
A46: 941120 | B46: Földelési és érintésvédelmi rendszer, áram-visszavezetők bontása | C46: 0.06 | D46: km | F46: =C46*E46 -> 0
A47: 942000 | B47: Felsővezeték építése
A48: 942010 | B48: Pörgetett vasbeton oszlop állítása | C48: 3 | D48: db | F48: =C48*E48 -> 0
A49: 942030 | B49: Különféle acéloszlop állítása | C49: 3 | D49: db | F49: =C49*E49 -> 0
A50: 942070 | B50: Tartószerkezet felszerelése | C50: 7 | D50: készlet | F50: =C50*E50 -> 0
A51: 942090 | B51: Feszítőmű felszerelés | C51: 2 | D51: készlet | F51: =C51*E51 -> 0
A52: 942100 | B52: K100-as hosszlánc építése | C52: 0.75 | D52: km | F52: =C52*E52 -> 0
A53: 942150 | B53: Felsővezeték szabályozása | C53: 3.1 | D53: km | F53: =C53*E53 -> 0
A54: 942200 | B54: Vonali táp, állomási megkerülő vezetékek, kapcsolóvezetékek építése | C54: 0.66 | D54: km | F54: =C54*E54 -> 0
A55: 942230 | B55: Önhordó fényvezetőszálas kábel áthelyezése | C55: 1 | D55: km | F55: =C55*E55 -> 0
A56: 942240 | B56: Földelő vezeték létesítése | C56: 0.06 | D56: km | F56: =C56*E56 -> 0
A57: 942260 | B57: Felsővezetéki rendszer földelési és érintésvédelmi bekötéseinek elkészítése | C57: 18 | D57: db | F57: =C57*E57 -> 0
A58: 943000 | B58: Felsővezeték egyéb kiegészítő munkák
A59: 943010 | B59: Acélszerkezetek, oszlopok festése | C59: 24 | D59: m2 | F59: =C59*E59 -> 0
A60: 943020 | B60: Felsővezetéki táblák és jelzések | C60: 6 | D60: db | F60: =C60*E60 -> 0
A61: K | B61: Betongyámos faoszlop provizor állítása (építés/bontás) | C61: 7 | D61: db | F61: =C61*E61 -> 0
B63: Felsővezeték II. Összesen | F63: =SUM(F32:F61) -> 0
B65: Felsővezeték Összesen | F65: =F63+F29 -> 0

Sheet Távközlés 
B2: Veszprém-Herend vv Távközlés
A3: TÉTELSZÁM | B3: MEGNEVEZÉS | C3: MENNYISÉG | D3: MÉRTÉK-EGYSÉG | E3: EGYSÉGÁR | F3: ÖSSZEG
A4: 000 000 | B4: ÁLTALÁNOS TÉTELEK
A5: 10000 | B5: Tervezési feladatok
A6: 10015 | B6: Megvalósulási tervek elkészítése | C6: 1 | D6: Ft | F6: =C6*E6 -> 0
A7: K1 | B7: Előrehaladás nyomkövető digitális adatainak szolgáltatása | C7: 1 | D7: Ft | F7: =C7*E7 -> 0
A8: 50230 | B8: Próbaüzemmel kapcsolatos feladatok ellátása | C8: 1 | D8: Ft | F8: =C8*E8 -> 0
A9: 960000 | B9: Vasúti távközlő berendezések és rendszerek
A10: 961000 | B10: Távközlő berendezések bontása
A11: 961060 | B11: Meglévő földkábel bontása | C11: 660 | D11: m | F11: =C11*E11 -> 0
A12: 963000 | B12: Távközlési hálózatok kiépítése
A13: K3 | B13: B7H vonalkábel építése | C13: 440 | D13: m | F13: =C13*E13 -> 0
A14: 963050 | B14: Vonali energiaellátó kábel földárokba fektetve | C14: 220 | D14: m | F14: =C14*E14 -> 0
A15: 963070 | B15: Helyi kábel építése | C15: 20 | D15: m | F15: =C15*E15 -> 0
A16: 963090 | B16: WM végelzárók építése | C16: 1 | D16: db | F16: =C16*E16 -> 0
A17: 970000 | B17: Vasúti Térvilágítás
A18: 972000 | B18: Térvilágítás építési munkák
A19: 972090 | B19: Kábelárok készítése visszatöltése | C19: 220 | D19: m | F19: =C19*E19 -> 0
A20: K4 | B20: Műszeres nyomvonalkitűzés, kutatógödör készítés | C20: 220 | D20: m | F20: =C20*E20 -> 0
A21: K5 | B21: Kotrást tiltó tábla elhelyezése | C21: 2 | D21: db | F21: =C21*E21 -> 0
B23: Távközlés I. Összesen | F23: =SUM(F4:F21) -> 0
A25: SZG-VL
B26: Szentgál-Városlőd-Kislőd vv távközlés
A27: TÉTEL -SZÁM | B27: MEGNEVEZÉS | C27: MENNYISÉG | D27: MÉRTÉK-EGYSÉG | E27: EGYSÉGÁR | F27: ÖSSZEG
A28: 000 000 | B28: ÁLTALÁNOS TÉTELEK
A29: 10000 | B29: Tervezési feladatok
A30: 10015 | B30: Megvalósulási tervek elkészítése | C30: 1 | D30: Ft | F30: =C30*E30 -> 0
A31: K1 | B31: Előrehaladás nyomkövető digitális adatainak szolgáltatása | C31: 1 | D31: Ft | F31: =C31*E31 -> 0
A32: 50230 | B32: Próbaüzemmel kapcsolatos feladatok ellátása | C32: 1 | D32: Ft | F32: =C32*E32 -> 0
A33: 960000 | B33: Vasúti távközlő berendezések és rendszerek
A34: 961000 | B34: Távközlő berendezések bontása
A35: 961060 | B35: Meglévő földkábel bontása | C35: 300 | D35: m | F35: =C35*E35 -> 0
A36: 963000 | B36: Távközlési hálózatok kiépítése
A37: K3 | B37: B7H vonalkábel építése | C37: 200 | D37: m | F37: =C37*E37 -> 0
A38: 963050 | B38: Vonali energiaellátó kábel földárokba fektetve | C38: 100 | D38: m | F38: =C38*E38 -> 0
A39: 970000 | B39: Vasúti Térvilágítás
A40: 972000 | B40: Térvilágítás építési munkák
A41: 972090 | B41: Kábelárok készítése visszatöltése | C41: 100 | D41: m | F41: =C41*E41 -> 0
A42: K4 | B42: Műszeres nyomvonalkitűzés, kutatógödör készítés | C42: 100 | D42: m | F42: =C42*E42 -> 0
A43: K5 | B43: Kotrást tiltó tábla elhelyezése | C43: 2 | D43: db | F43: =C43*E43 -> 0
B45: Távközlés II. Összesen | F45: =SUM(F28:F43) -> 0
B47: Távközlés Összesen | F47: =F45+F23 -> 0

Sheet Bizt ber
A3: TÉTEL-SZÁM | B3: MEGNEVEZÉS | C3: MENNYISÉG | D3: MÉRTÉK-EGYSÉG | E3: EGYSÉGÁR | F3: ÖSSZEG
A4: 000 000 | B4: ÁLTALÁNOS TÉTELEK
A5: 10000 | B5: Tervezési feladatok
A6: 10010 | B6: Tervezés | C6: 1 | D6: Ft | F6: =E6 -> 0
A7: 10015 | B7: Megvalósulási tervek elkészítése | C7: 1 | D7: Ft | F7: =E7 -> 0
A8: 10060 | B8: Átvételt megelőző üzempróbák | C8: 1 | D8: Ft | F8: =C8*E8 -> 0
A9: 200000 | B9: ELŐKÉSZÍTŐ- ÉS FÖLDMUNKÁK
A10: 212000 | B10: Közművek fedlapjainak szintbehelyzése, cseréje
A11: 212070 | B11: Műszeres nyomvonalkitűzés, kutatógödör készítés | C11: 387 | D11: m | F11: =C11*E11 -> 0
A12: 900000 | B12: VASÚTÉPÍTÉS
A13: 951000 | B13: Biztosítóberendezések bontása
A14: 951050 | B14: Térközbiztosító-berendezések bontása | C14: 1 | D14: csop | F14: =C14*E14 -> 0
A15: 951150 | B15: Foglaltság érzékelők bontása | C15: 2 | D15: db | F15: =C15*E15 -> 0
A16: 951160 | B16: Foglaltság érzékelők szekrényeinek bontása | C16: 2 | D16: db | F16: =C16*E16 -> 0
A17: 951170 | B17: Fény- és alakjelzők bontása | C17: 4 | D17: db | F17: =C17*E17 -> 0
A18: 953000 | B18: Jelző- és biztosítóberendezési külsőtéri elemek telepítése
A19: 953010 | B19: Fényjelző és szerelvényei telepítése és szerelése | C19: 4 | D19: db | F19: =C19*E19 -> 0
A20: 953060 | B20: Egyéb kábelezési munkák | C20: 22 | D20: m | F20: =C20*E20 -> 0
A21: 953070 | B21: Különböző érszerkezetű állítómű kábelek fektetése (földárokba, kábelcsatornába) | C21: 365 | D21: m | F21: =C21*E21 -> 0
A22: 953080 | B22: Kábelvégelzárók szerelése | C22: 9 | D22: db | F22: =C22*E22 -> 0
A23: 953100 | B23: Szigeteltsín szekrények szerelése | C23: 2 | D23: db | F23: =C23*E23 -> 0
A24: 953120 | B24: Szigeteltsín csatlakozó vezetékek szerelése | C24: 4 | D24: db | F24: =C24*E24 -> 0
A25: 955000 | B25: Nyíltvonali biztosítóberendezések
A26: 955010 | B26: Önműködő térközbiztosító-berendezés létesítése | C26: 1 | D26: db | F26: =C26*E26 -> 0
A27: 955080 | B27: Foglaltság érzékelők telepítése | C27: 2 | D27: db | F27: =C27*E27 -> 0
A28: 970000 | B28: Vasúti Térvilágítás
A29: 972000 | B29: Térvilágítás építési munkák
A30: 972090 | B30: Kábelárok készítése visszatöltése | C30: 387 | D30: m | F30: =C30*E30 -> 0
B32: MŰTÁRGY 565+92 ÖSSZESEN: | F32: =SUM(F6:F30) -> 0
